BEGIN:VCALENDAR
VERSION:2.0
PRODID:SchoolNow
CALSCALE:GREGORIAN
BEGIN:VEVENT
UID:3e306a78-8f32-11f0-86e6-02dcb6a3991b
DTSTAMP:20260421T102011Z
SUMMARY:Morning Choir Rehearsal
LOCATION:D105
URL;VALUE=URI:https://www.op97.org/brooks/calendar/8609224/morning-choir-re
 hearsal
DTSTART:20260303T140000Z
DTEND:20260303T144500Z
END:VEVENT
END:VCALENDAR
