BEGIN:VCALENDAR
VERSION:2.0
PRODID:SchoolNow
CALSCALE:GREGORIAN
BEGIN:VEVENT
UID:3e30746e-8f32-11f0-9c96-02dcb6a3991b
DTSTAMP:20260421T102011Z
SUMMARY:Morning Choir Rehearsal
LOCATION:D105
URL;VALUE=URI:https://www.op97.org/brooks/calendar/8609235/morning-choir-re
 hearsal
DTSTART:20260519T130000Z
DTEND:20260519T134500Z
END:VEVENT
END:VCALENDAR
