BEGIN:VCALENDAR
VERSION:2.0
PRODID:SchoolNow
CALSCALE:GREGORIAN
BEGIN:VEVENT
UID:33f0518a-8f65-11f0-b3fc-0a58a9feac02
DTSTAMP:20260421T162511Z
SUMMARY:Intramurals
LOCATION:Aux Gym
URL;VALUE=URI:https://www.op97.org/brooks/calendar/8610609/intramurals
DTSTART:20260113T213000Z
DTEND:20260113T223000Z
END:VEVENT
END:VCALENDAR
