BEGIN:VCALENDAR
VERSION:2.0
PRODID:SchoolNow
CALSCALE:GREGORIAN
BEGIN:VEVENT
UID:3402557e-8f65-11f0-8008-0a58a9feac02
DTSTAMP:20260421T102012Z
SUMMARY:Intramurals
LOCATION:Aux Gym
URL;VALUE=URI:https://www.op97.org/brooks/calendar/8610617/intramurals
DTSTART:20260303T213000Z
DTEND:20260303T223000Z
END:VEVENT
END:VCALENDAR
