BEGIN:VCALENDAR
VERSION:2.0
PRODID:SchoolNow
CALSCALE:GREGORIAN
BEGIN:VEVENT
UID:34025bf0-8f65-11f0-b6a1-0a58a9feac02
DTSTAMP:20260421T102012Z
SUMMARY:Intramurals
LOCATION:Aux Gym
URL;VALUE=URI:https://www.op97.org/brooks/calendar/8610624/intramurals
DTSTART:20260421T203000Z
DTEND:20260421T213000Z
END:VEVENT
END:VCALENDAR
