BEGIN:VCALENDAR
VERSION:2.0
PRODID:SchoolNow
CALSCALE:GREGORIAN
BEGIN:VEVENT
UID:34026302-8f65-11f0-a211-0a58a9feac02
DTSTAMP:20260421T162511Z
SUMMARY:Intramurals
LOCATION:Aux Gym
URL;VALUE=URI:https://www.op97.org/brooks/calendar/8610632/intramurals
DTSTART:20260122T213000Z
DTEND:20260122T223000Z
END:VEVENT
END:VCALENDAR
