BEGIN:VCALENDAR
VERSION:2.0
PRODID:SchoolNow
CALSCALE:GREGORIAN
BEGIN:VEVENT
UID:340266cc-8f65-11f0-9096-0a58a9feac02
DTSTAMP:20260421T162511Z
SUMMARY:Intramurals
LOCATION:Aux Gym
URL;VALUE=URI:https://www.op97.org/brooks/calendar/8610635/intramurals
DTSTART:20260212T213000Z
DTEND:20260212T223000Z
END:VEVENT
END:VCALENDAR
