BEGIN:VCALENDAR
VERSION:2.0
PRODID:SchoolNow
CALSCALE:GREGORIAN
BEGIN:VEVENT
UID:340268a2-8f65-11f0-a5e3-0a58a9feac02
DTSTAMP:20260421T162511Z
SUMMARY:Intramurals
LOCATION:Aux Gym
URL;VALUE=URI:https://www.op97.org/brooks/calendar/8610637/intramurals
DTSTART:20260226T213000Z
DTEND:20260226T223000Z
END:VEVENT
END:VCALENDAR
