BEGIN:VCALENDAR
VERSION:2.0
PRODID:SchoolNow
CALSCALE:GREGORIAN
BEGIN:VEVENT
UID:34026d02-8f65-11f0-9e85-0a58a9feac02
DTSTAMP:20260421T102011Z
SUMMARY:Intramurals
LOCATION:Aux Gym
URL;VALUE=URI:https://www.op97.org/brooks/calendar/8610642/intramurals
DTSTART:20260402T203000Z
DTEND:20260402T213000Z
END:VEVENT
END:VCALENDAR
