BEGIN:VCALENDAR
VERSION:2.0
PRODID:SchoolNow
CALSCALE:GREGORIAN
BEGIN:VEVENT
UID:34026f96-8f65-11f0-b4f1-0a58a9feac02
DTSTAMP:20260421T102011Z
SUMMARY:Intramurals
LOCATION:Aux Gym
URL;VALUE=URI:https://www.op97.org/brooks/calendar/8610645/intramurals
DTSTART:20260423T203000Z
DTEND:20260423T213000Z
END:VEVENT
END:VCALENDAR
