BEGIN:VCALENDAR
VERSION:2.0
PRODID:SchoolNow
CALSCALE:GREGORIAN
BEGIN:VEVENT
UID:340273e2-8f65-11f0-a18e-0a58a9feac02
DTSTAMP:20260421T102011Z
SUMMARY:Intramurals
LOCATION:Aux Gym
URL;VALUE=URI:https://www.op97.org/brooks/calendar/8610650/intramurals
DTSTART:20260528T203000Z
DTEND:20260528T213000Z
END:VEVENT
END:VCALENDAR
