BEGIN:VCALENDAR
VERSION:2.0
PRODID:SchoolNow
CALSCALE:GREGORIAN
BEGIN:VEVENT
UID:34028bc0-8f65-11f0-8bb7-0a58a9feac02
DTSTAMP:20260421T162511Z
SUMMARY:YEMBA
LOCATION:3rd Floor C-wing
URL;VALUE=URI:https://www.op97.org/brooks/calendar/8610677/yemba
DTSTART:20260204T211500Z
DTEND:20260205T000000Z
END:VEVENT
END:VCALENDAR
