BEGIN:VCALENDAR
VERSION:2.0
PRODID:SchoolNow
CALSCALE:GREGORIAN
BEGIN:VEVENT
UID:34028ca6-8f65-11f0-a9a4-0a58a9feac02
DTSTAMP:20260421T162511Z
SUMMARY:YEMBA
LOCATION:3rd Floor C-wing
URL;VALUE=URI:https://www.op97.org/brooks/calendar/8610678/yemba
DTSTART:20260211T211500Z
DTEND:20260212T000000Z
END:VEVENT
END:VCALENDAR
