BEGIN:VCALENDAR
VERSION:2.0
PRODID:SchoolNow
CALSCALE:GREGORIAN
BEGIN:VEVENT
UID:34028d82-8f65-11f0-b9ba-0a58a9feac02
DTSTAMP:20260421T162511Z
SUMMARY:YEMBA
LOCATION:3rd Floor C-wing
URL;VALUE=URI:https://www.op97.org/brooks/calendar/8610679/yemba
DTSTART:20260218T211500Z
DTEND:20260219T000000Z
END:VEVENT
END:VCALENDAR
