BEGIN:VCALENDAR
VERSION:2.0
PRODID:SchoolNow
CALSCALE:GREGORIAN
BEGIN:VEVENT
UID:340290de-8f65-11f0-9f37-0a58a9feac02
DTSTAMP:20260421T102012Z
SUMMARY:YEMBA
LOCATION:3rd Floor C-wing
URL;VALUE=URI:https://www.op97.org/brooks/calendar/8610683/yemba
DTSTART:20260318T201500Z
DTEND:20260318T230000Z
END:VEVENT
END:VCALENDAR
