BEGIN:VCALENDAR
VERSION:2.0
PRODID:SchoolNow
CALSCALE:GREGORIAN
BEGIN:VEVENT
UID:3402971e-8f65-11f0-8ac6-0a58a9feac02
DTSTAMP:20260421T102012Z
SUMMARY:YEMBA
LOCATION:3rd Floor C-wing
URL;VALUE=URI:https://www.op97.org/brooks/calendar/8610689/yemba
DTSTART:20260429T201500Z
DTEND:20260429T230000Z
END:VEVENT
END:VCALENDAR
