BEGIN:VCALENDAR
VERSION:2.0
PRODID:SchoolNow
CALSCALE:GREGORIAN
BEGIN:VEVENT
UID:34029e26-8f65-11f0-8fd7-0a58a9feac02
DTSTAMP:20260421T162511Z
SUMMARY:YEMBA
LOCATION:3rd Floor C-wing
URL;VALUE=URI:https://www.op97.org/brooks/calendar/8610697/yemba
DTSTART:20260129T211500Z
DTEND:20260130T000000Z
END:VEVENT
END:VCALENDAR
