BEGIN:VCALENDAR
VERSION:2.0
PRODID:SchoolNow
CALSCALE:GREGORIAN
BEGIN:VEVENT
UID:34029ef8-8f65-11f0-9a03-0a58a9feac02
DTSTAMP:20260421T162511Z
SUMMARY:YEMBA
LOCATION:3rd Floor C-wing
URL;VALUE=URI:https://www.op97.org/brooks/calendar/8610698/yemba
DTSTART:20260205T211500Z
DTEND:20260206T000000Z
END:VEVENT
END:VCALENDAR
