BEGIN:VCALENDAR
VERSION:2.0
PRODID:SchoolNow
CALSCALE:GREGORIAN
BEGIN:VEVENT
UID:3402a182-8f65-11f0-8125-0a58a9feac02
DTSTAMP:20260421T162511Z
SUMMARY:YEMBA
LOCATION:3rd Floor C-wing
URL;VALUE=URI:https://www.op97.org/brooks/calendar/8610701/yemba
DTSTART:20260226T211500Z
DTEND:20260227T000000Z
END:VEVENT
END:VCALENDAR
