BEGIN:VCALENDAR
VERSION:2.0
PRODID:SchoolNow
CALSCALE:GREGORIAN
BEGIN:VEVENT
UID:3402a916-8f65-11f0-989d-0a58a9feac02
DTSTAMP:20260421T102011Z
SUMMARY:YEMBA
LOCATION:3rd Floor C-wing
URL;VALUE=URI:https://www.op97.org/brooks/calendar/8610710/yemba
DTSTART:20260430T201500Z
DTEND:20260430T230000Z
END:VEVENT
END:VCALENDAR
