BEGIN:VCALENDAR
VERSION:2.0
PRODID:SchoolNow
CALSCALE:GREGORIAN
BEGIN:VEVENT
UID:3402aac4-8f65-11f0-b359-0a58a9feac02
DTSTAMP:20260421T102011Z
SUMMARY:YEMBA
LOCATION:3rd Floor C-wing
URL;VALUE=URI:https://www.op97.org/brooks/calendar/8610712/yemba
DTSTART:20260514T201500Z
DTEND:20260514T230000Z
END:VEVENT
END:VCALENDAR
