BEGIN:VCALENDAR
VERSION:2.0
PRODID:SchoolNow
CALSCALE:GREGORIAN
BEGIN:VEVENT
UID:2f5a2012-8ffe-11f0-9061-0a58a9feac02
DTSTAMP:20260421T162511Z
SUMMARY:Special Education Department Meeting
LOCATION:Auditorium
URL;VALUE=URI:https://www.op97.org/brooks/calendar/8613796/special-educatio
 n-department-meeting
DTSTART:20260225T214500Z
DTEND:20260225T230000Z
END:VEVENT
END:VCALENDAR
