BEGIN:VCALENDAR
VERSION:2.0
PRODID:SchoolNow
CALSCALE:GREGORIAN
BEGIN:VEVENT
UID:079df8cc-932e-11f0-bca0-0eccc5324bdf
DTSTAMP:20260421T162511Z
SUMMARY:Yearbook Club Meeting
LOCATION:C309
URL;VALUE=URI:https://www.op97.org/brooks/calendar/8629140/yearbook-club-me
 eting
DTSTART:20260114T213000Z
DTEND:20260114T223000Z
END:VEVENT
END:VCALENDAR
