BEGIN:VCALENDAR
VERSION:2.0
PRODID:SchoolNow
CALSCALE:GREGORIAN
BEGIN:VEVENT
UID:079dfb6a-932e-11f0-ada7-0eccc5324bdf
DTSTAMP:20260421T162511Z
SUMMARY:Yearbook Club Meeting
LOCATION:C309
URL;VALUE=URI:https://www.op97.org/brooks/calendar/8629143/yearbook-club-me
 eting
DTSTART:20260204T213000Z
DTEND:20260204T223000Z
END:VEVENT
END:VCALENDAR
