BEGIN:VCALENDAR
VERSION:2.0
PRODID:SchoolNow
CALSCALE:GREGORIAN
BEGIN:VEVENT
UID:079dfc46-932e-11f0-a7f0-0eccc5324bdf
DTSTAMP:20260421T162511Z
SUMMARY:Yearbook Club Meeting
LOCATION:C309
URL;VALUE=URI:https://www.op97.org/brooks/calendar/8629144/yearbook-club-me
 eting
DTSTART:20260211T213000Z
DTEND:20260211T223000Z
END:VEVENT
END:VCALENDAR
