BEGIN:VCALENDAR
VERSION:2.0
PRODID:SchoolNow
CALSCALE:GREGORIAN
BEGIN:VEVENT
UID:079dfee4-932e-11f0-91e3-0eccc5324bdf
DTSTAMP:20260421T102012Z
SUMMARY:Yearbook Club Meeting
LOCATION:C309
URL;VALUE=URI:https://www.op97.org/brooks/calendar/8629147/yearbook-club-me
 eting
DTSTART:20260304T213000Z
DTEND:20260304T223000Z
END:VEVENT
END:VCALENDAR
