BEGIN:VCALENDAR
VERSION:2.0
PRODID:SchoolNow
CALSCALE:GREGORIAN
BEGIN:VEVENT
UID:079e027c-932e-11f0-a74c-0eccc5324bdf
DTSTAMP:20260421T102012Z
SUMMARY:Yearbook Club Meeting
LOCATION:C309
URL;VALUE=URI:https://www.op97.org/brooks/calendar/8629151/yearbook-club-me
 eting
DTSTART:20260401T203000Z
DTEND:20260401T213000Z
END:VEVENT
END:VCALENDAR
