BEGIN:VCALENDAR
VERSION:2.0
PRODID:SchoolNow
CALSCALE:GREGORIAN
BEGIN:VEVENT
UID:079e0362-932e-11f0-888a-0eccc5324bdf
DTSTAMP:20260421T102012Z
SUMMARY:Yearbook Club Meeting
LOCATION:C309
URL;VALUE=URI:https://www.op97.org/brooks/calendar/8629152/yearbook-club-me
 eting
DTSTART:20260408T203000Z
DTEND:20260408T213000Z
END:VEVENT
END:VCALENDAR
