BEGIN:VCALENDAR
VERSION:2.0
PRODID:SchoolNow
CALSCALE:GREGORIAN
BEGIN:VEVENT
UID:a9988db4-9a26-11f0-a6b3-027127f0a491
DTSTAMP:20260421T162511Z
SUMMARY:Spoken Word Club
LOCATION:B305
URL;VALUE=URI:https://www.op97.org/brooks/calendar/8663156/spoken-word-club
DTSTART:20260128T220000Z
DTEND:20260128T231500Z
END:VEVENT
END:VCALENDAR
