BEGIN:VCALENDAR
VERSION:2.0
PRODID:SchoolNow
CALSCALE:GREGORIAN
BEGIN:VEVENT
UID:a9989084-9a26-11f0-90eb-027127f0a491
DTSTAMP:20260421T162511Z
SUMMARY:Spoken Word Club
LOCATION:B305
URL;VALUE=URI:https://www.op97.org/brooks/calendar/8663159/spoken-word-club
DTSTART:20260218T220000Z
DTEND:20260218T231500Z
END:VEVENT
END:VCALENDAR
