BEGIN:VCALENDAR
VERSION:2.0
PRODID:SchoolNow
CALSCALE:GREGORIAN
BEGIN:VEVENT
UID:a998916a-9a26-11f0-89e6-027127f0a491
DTSTAMP:20260421T102011Z
SUMMARY:Spoken Word Club
LOCATION:B305
URL;VALUE=URI:https://www.op97.org/brooks/calendar/8663160/spoken-word-club
DTSTART:20260304T220000Z
DTEND:20260304T231500Z
END:VEVENT
END:VCALENDAR
