BEGIN:VCALENDAR
VERSION:2.0
PRODID:SchoolNow
CALSCALE:GREGORIAN
BEGIN:VEVENT
UID:a9989426-9a26-11f0-89ee-027127f0a491
DTSTAMP:20260421T102011Z
SUMMARY:Spoken Word Club
LOCATION:B305
URL;VALUE=URI:https://www.op97.org/brooks/calendar/8663163/spoken-word-club
DTSTART:20260422T210000Z
DTEND:20260422T221500Z
END:VEVENT
END:VCALENDAR
