BEGIN:VCALENDAR
VERSION:2.0
PRODID:SchoolNow
CALSCALE:GREGORIAN
BEGIN:VEVENT
UID:a998950c-9a26-11f0-b88c-027127f0a491
DTSTAMP:20260421T102011Z
SUMMARY:Spoken Word Club
LOCATION:B305
URL;VALUE=URI:https://www.op97.org/brooks/calendar/8663164/spoken-word-club
DTSTART:20260506T210000Z
DTEND:20260506T221500Z
END:VEVENT
END:VCALENDAR
