BEGIN:VCALENDAR
VERSION:2.0
PRODID:SchoolNow
CALSCALE:GREGORIAN
BEGIN:VEVENT
UID:a99895f2-9a26-11f0-b1f3-027127f0a491
DTSTAMP:20260421T102011Z
SUMMARY:Spoken Word Club
LOCATION:B305
URL;VALUE=URI:https://www.op97.org/brooks/calendar/8663165/spoken-word-club
DTSTART:20260520T210000Z
DTEND:20260520T221500Z
END:VEVENT
END:VCALENDAR
