BEGIN:VCALENDAR
VERSION:2.0
PRODID:SchoolNow
CALSCALE:GREGORIAN
BEGIN:VEVENT
UID:9aeee024-9b25-11f0-8406-0224a9974615
DTSTAMP:20260421T162511Z
SUMMARY:Friday Night Place (FNP)
LOCATION:A126\, A212\, Core Studio\, Aux Gym\, and Main Gym
URL;VALUE=URI:https://www.op97.org/brooks/calendar/8668406/friday-night-pla
 ce-fnp
DTSTART:20260220T213000Z
DTEND:20260220T231500Z
END:VEVENT
END:VCALENDAR
