BEGIN:VCALENDAR
VERSION:2.0
PRODID:SchoolNow
CALSCALE:GREGORIAN
BEGIN:VEVENT
UID:9aeee9ca-9b25-11f0-b782-0224a9974615
DTSTAMP:20260421T102011Z
SUMMARY:Friday Night Place (FNP)
LOCATION:A126\, A212\, Core Studio\, Aux Gym\, and Main Gym
URL;VALUE=URI:https://www.op97.org/brooks/calendar/8668416/friday-night-pla
 ce-fnp
DTSTART:20260501T203000Z
DTEND:20260501T221500Z
END:VEVENT
END:VCALENDAR
