BEGIN:VCALENDAR
VERSION:2.0
PRODID:SchoolNow
CALSCALE:GREGORIAN
BEGIN:VEVENT
UID:36a615ac-a2ea-11f0-b583-0a58a9feac02
DTSTAMP:20260421T162511Z
SUMMARY:DND Club
LOCATION:Media Center
URL;VALUE=URI:https://www.op97.org/brooks/calendar/8699880/dnd-club
DTSTART:20260114T213000Z
DTEND:20260114T223000Z
END:VEVENT
END:VCALENDAR
