BEGIN:VCALENDAR
VERSION:2.0
PRODID:SchoolNow
CALSCALE:GREGORIAN
BEGIN:VEVENT
UID:36a61926-a2ea-11f0-b6ef-0a58a9feac02
DTSTAMP:20260421T162511Z
SUMMARY:DND Club
LOCATION:Media Center
URL;VALUE=URI:https://www.op97.org/brooks/calendar/8699884/dnd-club
DTSTART:20260211T213000Z
DTEND:20260211T223000Z
END:VEVENT
END:VCALENDAR
