BEGIN:VCALENDAR
VERSION:2.0
PRODID:SchoolNow
CALSCALE:GREGORIAN
BEGIN:VEVENT
UID:2df88f12-a3b6-11f0-8dd9-0a58a9feac02
DTSTAMP:20260421T102011Z
SUMMARY:Best Buddies Banquet/Special Olympics Banquet
LOCATION:Commons
URL;VALUE=URI:https://www.op97.org/brooks/calendar/8703034/best-buddies-ban
 quet-special-olympics-banquet
DTSTART:20260520T203000Z
DTEND:20260521T003000Z
END:VEVENT
END:VCALENDAR
