BEGIN:VCALENDAR
VERSION:2.0
PRODID:SchoolNow
CALSCALE:GREGORIAN
BEGIN:VEVENT
UID:0d9be434-adf8-11f0-88bc-026380901c47
DTSTAMP:20260421T162511Z
SUMMARY:Club Labubu Meeting
LOCATION:A126
URL;VALUE=URI:https://www.op97.org/brooks/calendar/8736215/club-labubu-meet
 ing
DTSTART:20260127T214500Z
DTEND:20260127T224500Z
END:VEVENT
END:VCALENDAR
