BEGIN:VCALENDAR
VERSION:2.0
PRODID:SchoolNow
CALSCALE:GREGORIAN
BEGIN:VEVENT
UID:0d9be9b6-adf8-11f0-9d08-026380901c47
DTSTAMP:20260421T102011Z
SUMMARY:Club Labubu Meeting
LOCATION:A126
URL;VALUE=URI:https://www.op97.org/brooks/calendar/8736221/club-labubu-meet
 ing
DTSTART:20260310T204500Z
DTEND:20260310T214500Z
END:VEVENT
END:VCALENDAR
