BEGIN:VCALENDAR
VERSION:2.0
PRODID:SchoolNow
CALSCALE:GREGORIAN
BEGIN:VEVENT
UID:0d9bee48-adf8-11f0-97e5-026380901c47
DTSTAMP:20260421T102011Z
SUMMARY:Club Labubu Meeting
LOCATION:A126
URL;VALUE=URI:https://www.op97.org/brooks/calendar/8736226/club-labubu-meet
 ing
DTSTART:20260414T204500Z
DTEND:20260414T214500Z
END:VEVENT
END:VCALENDAR
