BEGIN:VCALENDAR
VERSION:2.0
PRODID:SchoolNow
CALSCALE:GREGORIAN
BEGIN:VEVENT
UID:0d9bf7d0-adf8-11f0-a09c-026380901c47
DTSTAMP:20260421T102011Z
SUMMARY:Club Labubu Meeting
LOCATION:A126
URL;VALUE=URI:https://www.op97.org/brooks/calendar/8736231/club-labubu-meet
 ing
DTSTART:20260519T204500Z
DTEND:20260519T214500Z
END:VEVENT
END:VCALENDAR
