BEGIN:VCALENDAR
VERSION:2.0
PRODID:SchoolNow
CALSCALE:GREGORIAN
BEGIN:VEVENT
UID:c1a3f602-aef6-11f0-81c0-0a58a9feac02
DTSTAMP:20260421T162511Z
SUMMARY:8th Grade Graduation - Brooks
LOCATION:Oak Park River Forest High School
URL;VALUE=URI:https://www.op97.org/brooks/calendar/8740988/8th-grade-gradua
 tion-brooks
DTSTART:20260602T233000Z
DTEND:20260603T003000Z
END:VEVENT
END:VCALENDAR
