BEGIN:VCALENDAR
VERSION:2.0
PRODID:SchoolNow
CALSCALE:GREGORIAN
BEGIN:VEVENT
UID:c1a3f97c-aef6-11f0-ba76-0a58a9feac02
DTSTAMP:20260421T162511Z
SUMMARY:8th Grade Graduation Rehearsal
LOCATION:Oak Park River Forest High School
URL;VALUE=URI:https://www.op97.org/brooks/calendar/8740989/8th-grade-gradua
 tion-rehearsal
DTSTART:20260602T144500Z
DTEND:20260602T170000Z
END:VEVENT
END:VCALENDAR
