BEGIN:VCALENDAR
VERSION:2.0
PRODID:SchoolNow
CALSCALE:GREGORIAN
BEGIN:VEVENT
UID:85a5189a-b38b-11f0-b351-0a58a9feac02
DTSTAMP:20260421T162511Z
SUMMARY:Brooks PTO Meeting
URL;VALUE=URI:https://www.op97.org/brooks/calendar/8755420/brooks-pto-meeti
 ng
DTSTART:20260203T000000Z
DTEND:20260203T013000Z
END:VEVENT
END:VCALENDAR
