BEGIN:VCALENDAR
VERSION:2.0
PRODID:SchoolNow
CALSCALE:GREGORIAN
BEGIN:VEVENT
UID:85a51aac-b38b-11f0-bfb0-0a58a9feac02
DTSTAMP:20260421T102011Z
SUMMARY:Brooks PTO Meeting
URL;VALUE=URI:https://www.op97.org/brooks/calendar/8755422/brooks-pto-meeti
 ng
DTSTART:20260406T230000Z
DTEND:20260407T003000Z
END:VEVENT
END:VCALENDAR
