BEGIN:VCALENDAR
VERSION:2.0
PRODID:SchoolNow
CALSCALE:GREGORIAN
BEGIN:VEVENT
UID:85a51ba6-b38b-11f0-987b-0a58a9feac02
DTSTAMP:20260421T102011Z
SUMMARY:Brooks PTO Meeting
URL;VALUE=URI:https://www.op97.org/brooks/calendar/8755423/brooks-pto-meeti
 ng
DTSTART:20260504T230000Z
DTEND:20260505T003000Z
END:VEVENT
END:VCALENDAR
