BEGIN:VCALENDAR
VERSION:2.0
PRODID:SchoolNow
CALSCALE:GREGORIAN
BEGIN:VEVENT
UID:1e433c6a-bc1c-11f0-8601-02d1754042f9
DTSTAMP:20260421T162511Z
SUMMARY:Bravo - Trolls Rehearsal
LOCATION:AUDITORIUM
URL;VALUE=URI:https://www.op97.org/brooks/calendar/8783315/bravo-trolls-reh
 earsal
DTSTART:20260115T213000Z
DTEND:20260116T010000Z
END:VEVENT
END:VCALENDAR
