BEGIN:VCALENDAR
VERSION:2.0
PRODID:SchoolNow
CALSCALE:GREGORIAN
BEGIN:VEVENT
UID:1e4353ee-bc1c-11f0-9a7a-02d1754042f9
DTSTAMP:20260421T162511Z
SUMMARY:Bravo - Trolls Rehearsal
LOCATION:AUDITORIUM + D105 + D110
URL;VALUE=URI:https://www.op97.org/brooks/calendar/8783324/bravo-trolls-reh
 earsal
DTSTART:20260120T213000Z
DTEND:20260121T010000Z
END:VEVENT
END:VCALENDAR
